BEGIN:VCALENDAR
PRODID:-//AT Content Types//AT Event//EN
VERSION:1.0
BEGIN:VEVENT
DTSTART:20080720T000000Z
DTEND:20080720T000000Z
DCREATED:20091214T163438Z
UID:ATEvent-3a351f96272960e882b50142151f4ff9
SEQUENCE:0
LAST-MODIFIED:20091214T163646Z
SUMMARY:20-07-2008\: H. Parravicini en conc.
PRIORITY:3
TRANSP:0
END:VEVENT
END:VCALENDAR
