BEGIN:VCALENDAR
PRODID:-//AT Content Types//AT Event//EN
VERSION:2.0
METHOD:PUBLISH
BEGIN:VEVENT
DTSTAMP:20260424T084757Z
CREATED:20130328T005212Z
UID:ATEvent-5c55b3bf3dcd41c0f83120e3ac9935b2
LAST-MODIFIED:20130328T005220Z
SUMMARY:E. Pahud en el Teatro Colón
DTSTART:20130527T233000Z
DTEND:20130528T013000Z
LOCATION:CABA
CATEGORIES:Conciertos
CLASS:PUBLIC
END:VEVENT
END:VCALENDAR
