BEGIN:VCALENDAR
PRODID:-//AT Content Types//AT Event//EN
VERSION:2.0
METHOD:PUBLISH
BEGIN:VEVENT
DTSTAMP:20260424T071301Z
CREATED:20130410T201604Z
UID:ATEvent-98dd9b79918b2c7d438824bd442feceb
LAST-MODIFIED:20130410T201835Z
SUMMARY:Emmanuel Pahud\, masterclass en el Teatro Colón
DTSTART:20130528T170000Z
DTEND:20130528T191000Z
DESCRIPTION:El Instituto Superior de Arte del Teatro Colón organiza\,
  dentro del ciclo Clases Magistrales 2013\, una clase magistral a carg
 o de Emmanuel Pahud el próximo 28 de mayo de 2013 a las 14 hs. La mis
 ma se desarrollará en el salón dorado del Teatro Colón
LOCATION:CABA
CATEGORIES:Cursos
CONTACT:ISA\, isacademiaorquestal@gmail.com
CLASS:PUBLIC
END:VEVENT
END:VCALENDAR
