BEGIN:VCALENDAR
PRODID:-//AT Content Types//AT Event//EN
VERSION:1.0
BEGIN:VEVENT
DTSTART:20130916T223000Z
DTEND:20130917T000000Z
DCREATED:20130822T005256Z
UID:ATEvent-2843526136898fd8c72b6e7ffaaac43d
SEQUENCE:0
LAST-MODIFIED:20130822T005535Z
SUMMARY:Felix Renggli y María Cecilia Muñoz en concierto
DESCRIPTION:En el auditorio del Colegio de Escribanos de la ciudad de 
 Buenos Aires se llevará a cabo el recital de dos flautas acompañadas
  al piano por Fernando Perez. La entrada es libre y gratuita.
LOCATION:CABA
PRIORITY:3
TRANSP:0
END:VEVENT
END:VCALENDAR
